BEGIN:VCALENDAR
VERSION:2.0
PRODID:-//Calendar of Events - ECPv6.15.17.1//NONSGML v1.0//EN
CALSCALE:GREGORIAN
METHOD:PUBLISH
X-WR-CALNAME:Calendar of Events
X-ORIGINAL-URL:https://usm.maine.edu/calendar-of-events
X-WR-CALDESC:Events for Calendar of Events
REFRESH-INTERVAL;VALUE=DURATION:PT1H
X-Robots-Tag:noindex
X-PUBLISHED-TTL:PT1H
BEGIN:VTIMEZONE
TZID:America/New_York
BEGIN:DAYLIGHT
TZOFFSETFROM:-0500
TZOFFSETTO:-0400
TZNAME:EDT
DTSTART:20250309T070000
END:DAYLIGHT
BEGIN:STANDARD
TZOFFSETFROM:-0400
TZOFFSETTO:-0500
TZNAME:EST
DTSTART:20251102T060000
END:STANDARD
BEGIN:DAYLIGHT
TZOFFSETFROM:-0500
TZOFFSETTO:-0400
TZNAME:EDT
DTSTART:20260308T070000
END:DAYLIGHT
BEGIN:STANDARD
TZOFFSETFROM:-0400
TZOFFSETTO:-0500
TZNAME:EST
DTSTART:20261101T060000
END:STANDARD
BEGIN:DAYLIGHT
TZOFFSETFROM:-0500
TZOFFSETTO:-0400
TZNAME:EDT
DTSTART:20270314T070000
END:DAYLIGHT
BEGIN:STANDARD
TZOFFSETFROM:-0400
TZOFFSETTO:-0500
TZNAME:EST
DTSTART:20271107T060000
END:STANDARD
END:VTIMEZONE
BEGIN:VEVENT
DTSTART;TZID=America/New_York:20260425T133000
DTEND;TZID=America/New_York:20260425T143000
DTSTAMP:20260424T142629
CREATED:20260422T132626Z
LAST-MODIFIED:20260422T132626Z
UID:10034785-1777123800-1777127400@usm.maine.edu
SUMMARY:Student Recital Series: Andrew Marcotte and Karoline Brechter
DESCRIPTION:The Osher School of Music is pleased to present Andrew Marcotte and Karoline Brechter in their senior voice recital. Andrew is a student of Jeff Christmas and Scott Wheatley; Karoline is a student of Ed Reichert and Scott Wheatley. \nStudent recitals are free and open to the public. \n\nEvent Details\nParking\nDue to limited resources\, parking is not free on our Portland and Gorham campuses. You must purchase a parking permit or paid parking session to park on campus. We recommend reserving your parking in advance at https://events.parkengage.com/usm. \nFor easy access to the Crewe Center for the Arts\, choose either Parking Garage 1 (attached to the Abromson Community Education Center)\, Lot P1 (off of Bedford St. by Luther Bonney) or Lot P6 (off of Exeter St. or Deering Ave by the former Maine Law building). \nReserve Your Parking \n  \nDisability Access and Accommodations\nIf you have questions about disability access or need to request disability accommodations (e.g. sign language interpreters\, materials in electronic format\, etc.)\, please contact Hanna Flewelling at (207) 780-5256 or hanna.flewelling@maine.edu. Requests should be made as soon as possible to allow sufficient time for the accommodation process. \n\nSubscribe to our patron newsletter to stay up-to-date on all Osher School of Music events. \nJoin the Osher School of Music as a volunteer usher.
URL:https://usm.maine.edu/calendar-of-events/event/student-recital-series-andrew-marcotte-and-karoline-brechter/
LOCATION:Crewe Center for the Arts\, 111 Bedford St\, Portland\, ME\, 04101\, United States
CATEGORIES:Student activities,Visual and performing arts
ATTACH;FMTTYPE=image/webp:https://usm.maine.edu/calendar-of-events/wp-content/uploads/sites/34/2026/01/FI_StudentRecital.webp
ORGANIZER;CN="Music Box Office":MAILTO:usm.music@maine.edu
GEO:43.6614305;-70.2769249
X-APPLE-STRUCTURED-LOCATION;VALUE=URI;X-ADDRESS=Crewe Center for the Arts 111 Bedford St Portland ME 04101 United States;X-APPLE-RADIUS=500;X-TITLE=111 Bedford St:geo:-70.2769249,43.6614305
END:VEVENT
BEGIN:VEVENT
DTSTART;TZID=America/New_York:20260425T160000
DTEND;TZID=America/New_York:20260425T170000
DTSTAMP:20260424T142629
CREATED:20250715T140147Z
LAST-MODIFIED:20260319T161005Z
UID:10030765-1777132800-1777136400@usm.maine.edu
SUMMARY:Student Recital Series: Lizzy Fogg
DESCRIPTION:The Osher School of Music is pleased to present Lizzy Fogg in her senior recital. Lizzy is a student of Mary Bastoni and Ed Reichert. \nStudent recitals are free and open to the public. \n\nEvent Details\nParking\nDue to limited resources\, parking is not free on our Portland and Gorham campuses. You must purchase a parking permit or paid parking session to park on campus. We recommend reserving your parking in advance at https://events.parkengage.com/usm. \nFor easy access to the Crewe Center for the Arts\, choose either Parking Garage 1 (attached to the Abromson Community Education Center)\, Lot P1 (off of Bedford St. by Luther Bonney) or Lot P6 (off of Exeter St. or Deering Ave by the former Maine Law building). \nReserve Your Parking \n  \nDisability Access and Accommodations\nIf you have questions about disability access or need to request disability accommodations (e.g. sign language interpreters\, materials in electronic format\, etc.)\, please contact Hanna Flewelling at (207) 780-5256 or hanna.flewelling@maine.edu. Requests should be made as soon as possible to allow sufficient time for the accommodation process. \n\nSubscribe to our patron newsletter to stay up-to-date on all Osher School of Music events. \nJoin the Osher School of Music as a volunteer usher.
URL:https://usm.maine.edu/calendar-of-events/event/student-recital-series-lizzy-fogg/
LOCATION:Crewe Center for the Arts\, 111 Bedford St\, Portland\, ME\, 04101\, United States
CATEGORIES:Student activities,Visual and performing arts
ATTACH;FMTTYPE=image/webp:https://usm.maine.edu/calendar-of-events/wp-content/uploads/sites/34/2026/01/FI_StudentRecital.webp
ORGANIZER;CN="Music Box Office":MAILTO:usm.music@maine.edu
GEO:43.6614305;-70.2769249
X-APPLE-STRUCTURED-LOCATION;VALUE=URI;X-ADDRESS=Crewe Center for the Arts 111 Bedford St Portland ME 04101 United States;X-APPLE-RADIUS=500;X-TITLE=111 Bedford St:geo:-70.2769249,43.6614305
END:VEVENT
BEGIN:VEVENT
DTSTART;TZID=America/New_York:20260425T180000
DTEND;TZID=America/New_York:20260425T190000
DTSTAMP:20260424T142629
CREATED:20260316T163950Z
LAST-MODIFIED:20260319T160853Z
UID:10034594-1777140000-1777143600@usm.maine.edu
SUMMARY:Student Recital Series: Miles Plummer & Nicholas Freeman
DESCRIPTION:The Osher School of Music is pleased to present Miles Plummer\, jazz drums\, in his junior recital\, and Nicholas Freeman in an elective recital. Miles is the student of RJ Miller. \nStudent recitals are free and open to the public. \n\nEvent Details\nParking\nDue to limited resources\, parking is not free on our Portland and Gorham campuses. You must purchase a parking permit or paid parking session to park on campus. We recommend reserving your parking in advance at https://events.parkengage.com/usm. \nFor easy access to the Crewe Center for the Arts\, choose either Parking Garage 1 (attached to the Abromson Community Education Center)\, Lot P1 (off of Bedford St. by Luther Bonney) or Lot P6 (off of Exeter St. or Deering Ave by the former Maine Law building). \nReserve Your Parking \n  \nDisability Access and Accommodations\nIf you have questions about disability access or need to request disability accommodations (e.g. sign language interpreters\, materials in electronic format\, etc.)\, please contact Hanna Flewelling at (207) 780-5256 or hanna.flewelling@maine.edu. Requests should be made as soon as possible to allow sufficient time for the accommodation process. \n\nSubscribe to our patron newsletter to stay up-to-date on all Osher School of Music events. \nJoin the Osher School of Music as a volunteer usher.
URL:https://usm.maine.edu/calendar-of-events/event/student-recital-series-miles-plummer-nicholas-freeman/
LOCATION:Crewe Center for the Arts\, 111 Bedford St\, Portland\, ME\, 04101\, United States
CATEGORIES:Student activities,Visual and performing arts
ATTACH;FMTTYPE=image/webp:https://usm.maine.edu/calendar-of-events/wp-content/uploads/sites/34/2026/01/FI_StudentRecital.webp
ORGANIZER;CN="Music Box Office":MAILTO:usm.music@maine.edu
GEO:43.6614305;-70.2769249
X-APPLE-STRUCTURED-LOCATION;VALUE=URI;X-ADDRESS=Crewe Center for the Arts 111 Bedford St Portland ME 04101 United States;X-APPLE-RADIUS=500;X-TITLE=111 Bedford St:geo:-70.2769249,43.6614305
END:VEVENT
END:VCALENDAR