BEGIN:VCALENDAR
VERSION:2.0
PRODID:-//Calendar of Events - ECPv6.15.17.1//NONSGML v1.0//EN
CALSCALE:GREGORIAN
METHOD:PUBLISH
X-ORIGINAL-URL:https://usm.maine.edu/calendar-of-events
X-WR-CALDESC:Events for Calendar of Events
REFRESH-INTERVAL;VALUE=DURATION:PT1H
X-Robots-Tag:noindex
X-PUBLISHED-TTL:PT1H
BEGIN:VTIMEZONE
TZID:America/New_York
BEGIN:DAYLIGHT
TZOFFSETFROM:-0500
TZOFFSETTO:-0400
TZNAME:EDT
DTSTART:20250309T070000
END:DAYLIGHT
BEGIN:STANDARD
TZOFFSETFROM:-0400
TZOFFSETTO:-0500
TZNAME:EST
DTSTART:20251102T060000
END:STANDARD
BEGIN:DAYLIGHT
TZOFFSETFROM:-0500
TZOFFSETTO:-0400
TZNAME:EDT
DTSTART:20260308T070000
END:DAYLIGHT
BEGIN:STANDARD
TZOFFSETFROM:-0400
TZOFFSETTO:-0500
TZNAME:EST
DTSTART:20261101T060000
END:STANDARD
BEGIN:DAYLIGHT
TZOFFSETFROM:-0500
TZOFFSETTO:-0400
TZNAME:EDT
DTSTART:20270314T070000
END:DAYLIGHT
BEGIN:STANDARD
TZOFFSETFROM:-0400
TZOFFSETTO:-0500
TZNAME:EST
DTSTART:20271107T060000
END:STANDARD
END:VTIMEZONE
BEGIN:VEVENT
DTSTART;TZID=America/New_York:20260217T110000
DTEND;TZID=America/New_York:20260217T140000
DTSTAMP:20260425T133122
CREATED:20251211T152125Z
LAST-MODIFIED:20260113T180852Z
UID:10031092-1771326000-1771336800@usm.maine.edu
SUMMARY:Employers On-Campus: Central Maine Healthcare
DESCRIPTION:Network with local employers without having to leave campus! Tuesdays and Thursdays\, 11:00 a.m. – 2:00 p.m. on the first floor of the McGoldrick Center on the Portland campus\, various employers will be on campus to talk about their work and answer any questions.
URL:https://usm.maine.edu/calendar-of-events/event/employer-on-campus-visits-25/
LOCATION:McGoldrick Center for Career & Student Success\, 35 Bedford Street\, Portland\, ME\, 04101
CATEGORIES:Student activities
ATTACH;FMTTYPE=image/webp:https://usm.maine.edu/calendar-of-events/wp-content/uploads/sites/34/2025/08/eventFeatImage_USM-Calendar-Central-Maine-Healthcare.webp
ORGANIZER;CN="Career & Employment Hub":MAILTO:usmcareers@maine.edu
GEO:43.662794152949;-70.27502725047
X-APPLE-STRUCTURED-LOCATION;VALUE=URI;X-ADDRESS=McGoldrick Center for Career & Student Success 35 Bedford Street Portland ME 04101;X-APPLE-RADIUS=500;X-TITLE=35 Bedford Street:geo:-70.27502725047,43.662794152949
END:VEVENT
BEGIN:VEVENT
DTSTART;TZID=America/New_York:20260218T161500
DTEND;TZID=America/New_York:20260218T180000
DTSTAMP:20260425T133122
CREATED:20260217T184356Z
LAST-MODIFIED:20260327T140030Z
UID:10034029-1771431300-1771437600@usm.maine.edu
SUMMARY:Office Hours w/ Artist-in-Residence Peter Bruun
DESCRIPTION:Peter Bruun\, Together (detail\, one of 27 panels)\, 2022-2023. Oil on gessoed panel\, 12 x 18 in.\nThe University of Southern Maine Art Department is excited to welcome Spring 2026 Artist-in-Residence Peter Bruun. \nWorking under the aegis of Bruun Studios\, Peter Bruun is an artist\, writer\, curator\, and cultural organizer whose work spans painting\, drawing\, publishing\, and community-based art. For more than 30 years\, his studio practice has fueled projects that bring art into conversation with social justice\, collaboration\, and collective care—ranging from exhibitions and public programs to experimental publications and artist-led organizations. \nAs part of his residency\, Peter will host open Office Hours in his Academy Building studio throughout the spring semester. Students are encouraged to stop by to talk about artwork\, creative process\, career paths\, organizing\, or anything else on your mind. Whether you’re looking for feedback\, conversation\, or just curious to see how an artist works\, walk-ins are welcome. \nOffice Hours \n\nWednesdays\, February 18 –  April 30\, 4:15 – 6 pm\nFridays\, February 13 – May 1st\, 9 am – noon\nNo hours during Spring Break (March 18 & 20)\nOpen to all students\nAcademy Building\, 1st Floor (100 College Ave. Gorham campus)\n\nCome by\, ask questions\, and take advantage of this opportunity to connect with a visiting artist working at the intersection of art\, ideas\, and community.
URL:https://usm.maine.edu/calendar-of-events/event/office-hours-w-artist-in-residence-peter-bruun-2/2026-02-18/
LOCATION:Academy Building\, 100 School St\, Gorham\, ME\, 04038\, United States
CATEGORIES:Exhibit,Professional development,Student activities,Visual and performing arts
ATTACH;FMTTYPE=image/jpeg:https://usm.maine.edu/calendar-of-events/wp-content/uploads/sites/34/2026/03/EventFeaturedBruunTogether.jpg
ORGANIZER;CN="Kat Zagaria Buckley":MAILTO:kat.z.buckley@maine.edu
GEO:43.682358433577;-70.44528291715
X-APPLE-STRUCTURED-LOCATION;VALUE=URI;X-ADDRESS=Academy Building 100 School St Gorham ME 04038 United States;X-APPLE-RADIUS=500;X-TITLE=100 School St:geo:-70.44528291715,43.682358433577
END:VEVENT
BEGIN:VEVENT
DTSTART;TZID=America/New_York:20260219T103000
DTEND;TZID=America/New_York:20260219T123000
DTSTAMP:20260425T133122
CREATED:20260211T155737Z
LAST-MODIFIED:20260211T160002Z
UID:10034025-1771497000-1771504200@usm.maine.edu
SUMMARY:Family Fun Day
DESCRIPTION:Looking for some family fun during February Break?\n\nDrop in on Thursday\, February 19\, 2026\, in the Osher Map Library Cohen Classroom (Glickman 103) for map activities\, arts and crafts and snacks!\n\nTime: 10:30am – 12:30pm\n\nWe have a roster of fun activities planned for our K-12 visitors:\n\n Visit the reading room to see a collection of glorious globes and check our the Konkel Family Book Collection.\n Get your hands dirty with some arts and crafts in the Cohen Educational Center\, plus learn about our annual Illustrated Map Making Contest.\n We will also have map puzzles on hand and plenty of snacks!\n\nAll families are welcome\, this event is free\, and no registration is necessary–just stop on by and enjoy the fun!
URL:https://usm.maine.edu/calendar-of-events/event/family-fun-day/
LOCATION:Osher Map Library — Glickman Family Library\, 314 Forest Ave\, Portland\, ME\, 04101\, United States
CATEGORIES:Student activities
ATTACH;FMTTYPE=image/png:https://usm.maine.edu/calendar-of-events/wp-content/uploads/sites/34/2022/07/eventFallback.png
ORGANIZER;CN="Osher Map Library and Smith Center for Cartographic Education":MAILTO:oml-usm@maine.edu
GEO:43.662702851749;-70.272304880354
X-APPLE-STRUCTURED-LOCATION;VALUE=URI;X-ADDRESS=Osher Map Library — Glickman Family Library 314 Forest Ave Portland ME 04101 United States;X-APPLE-RADIUS=500;X-TITLE=314 Forest Ave:geo:-70.272304880354,43.662702851749
END:VEVENT
BEGIN:VEVENT
DTSTART;TZID=America/New_York:20260219T110000
DTEND;TZID=America/New_York:20260219T140000
DTSTAMP:20260425T133122
CREATED:20260116T202656Z
LAST-MODIFIED:20260120T142051Z
UID:10031095-1771498800-1771509600@usm.maine.edu
SUMMARY:Employer On-Campus Visits: Target
DESCRIPTION:Network with local employers without having to leave campus! Tuesdays and Thursdays\, 11:00 a.m. – 2:00 p.m. on the first floor of the McGoldrick Center on the Portland campus\, various employers will be on campus to talk about their work and answer any questions.
URL:https://usm.maine.edu/calendar-of-events/event/employer-on-campus-visits-26/
LOCATION:McGoldrick Center for Career & Student Success\, 35 Bedford Street\, Portland\, ME\, 04101
CATEGORIES:Student activities
ATTACH;FMTTYPE=image/jpeg:https://usm.maine.edu/calendar-of-events/wp-content/uploads/sites/34/2026/01/USM-OCR-Calendar-Feature-Image-Target-1.jpg
ORGANIZER;CN="Career & Employment Hub":MAILTO:usmcareers@maine.edu
GEO:43.662794152949;-70.27502725047
X-APPLE-STRUCTURED-LOCATION;VALUE=URI;X-ADDRESS=McGoldrick Center for Career & Student Success 35 Bedford Street Portland ME 04101;X-APPLE-RADIUS=500;X-TITLE=35 Bedford Street:geo:-70.27502725047,43.662794152949
END:VEVENT
BEGIN:VEVENT
DTSTART;TZID=America/New_York:20260220T090000
DTEND;TZID=America/New_York:20260220T120000
DTSTAMP:20260425T133122
CREATED:20260217T184356Z
LAST-MODIFIED:20260327T140030Z
UID:10033550-1771578000-1771588800@usm.maine.edu
SUMMARY:Office Hours w/ Artist-in-Residence Peter Bruun
DESCRIPTION:Peter Bruun\, Together (detail\, one of 27 panels)\, 2022-2023. Oil on gessoed panel\, 12 x 18 in.\nThe University of Southern Maine Art Department is excited to welcome Spring 2026 Artist-in-Residence Peter Bruun. \nWorking under the aegis of Bruun Studios\, Peter Bruun is an artist\, writer\, curator\, and cultural organizer whose work spans painting\, drawing\, publishing\, and community-based art. For more than 30 years\, his studio practice has fueled projects that bring art into conversation with social justice\, collaboration\, and collective care—ranging from exhibitions and public programs to experimental publications and artist-led organizations. \nAs part of his residency\, Peter will host open Office Hours in his Academy Building studio throughout the spring semester. Students are encouraged to stop by to talk about artwork\, creative process\, career paths\, organizing\, or anything else on your mind. Whether you’re looking for feedback\, conversation\, or just curious to see how an artist works\, walk-ins are welcome. \nOffice Hours \n\nWednesdays\, February 18 –  April 30\, 4:15 – 6 pm\nFridays\, February 13 – May 1st\, 9 am – noon\nNo hours during Spring Break (March 18 & 20)\nOpen to all students\nAcademy Building\, 1st Floor (100 College Ave. Gorham campus)\n\nCome by\, ask questions\, and take advantage of this opportunity to connect with a visiting artist working at the intersection of art\, ideas\, and community.
URL:https://usm.maine.edu/calendar-of-events/event/office-hours-w-artist-in-residence-peter-bruun-2/2026-02-20/
LOCATION:Academy Building\, 100 School St\, Gorham\, ME\, 04038\, United States
CATEGORIES:Exhibit,Professional development,Student activities,Visual and performing arts
ATTACH;FMTTYPE=image/jpeg:https://usm.maine.edu/calendar-of-events/wp-content/uploads/sites/34/2026/03/EventFeaturedBruunTogether.jpg
ORGANIZER;CN="Kat Zagaria Buckley":MAILTO:kat.z.buckley@maine.edu
GEO:43.682358433577;-70.44528291715
X-APPLE-STRUCTURED-LOCATION;VALUE=URI;X-ADDRESS=Academy Building 100 School St Gorham ME 04038 United States;X-APPLE-RADIUS=500;X-TITLE=100 School St:geo:-70.44528291715,43.682358433577
END:VEVENT
END:VCALENDAR