BEGIN:VCALENDAR
VERSION:2.0
PRODID:-//Calendar of Events - ECPv6.15.17.1//NONSGML v1.0//EN
CALSCALE:GREGORIAN
METHOD:PUBLISH
X-WR-CALNAME:Calendar of Events
X-ORIGINAL-URL:https://usm.maine.edu/calendar-of-events
X-WR-CALDESC:Events for Calendar of Events
REFRESH-INTERVAL;VALUE=DURATION:PT1H
X-Robots-Tag:noindex
X-PUBLISHED-TTL:PT1H
BEGIN:VTIMEZONE
TZID:America/New_York
BEGIN:DAYLIGHT
TZOFFSETFROM:-0500
TZOFFSETTO:-0400
TZNAME:EDT
DTSTART:20250309T070000
END:DAYLIGHT
BEGIN:STANDARD
TZOFFSETFROM:-0400
TZOFFSETTO:-0500
TZNAME:EST
DTSTART:20251102T060000
END:STANDARD
BEGIN:DAYLIGHT
TZOFFSETFROM:-0500
TZOFFSETTO:-0400
TZNAME:EDT
DTSTART:20260308T070000
END:DAYLIGHT
BEGIN:STANDARD
TZOFFSETFROM:-0400
TZOFFSETTO:-0500
TZNAME:EST
DTSTART:20261101T060000
END:STANDARD
BEGIN:DAYLIGHT
TZOFFSETFROM:-0500
TZOFFSETTO:-0400
TZNAME:EDT
DTSTART:20270314T070000
END:DAYLIGHT
BEGIN:STANDARD
TZOFFSETFROM:-0400
TZOFFSETTO:-0500
TZNAME:EST
DTSTART:20271107T060000
END:STANDARD
END:VTIMEZONE
BEGIN:VEVENT
DTSTART;TZID=America/New_York:20260408T100000
DTEND;TZID=America/New_York:20260408T123000
DTSTAMP:20260422T132754
CREATED:20250917T161343Z
LAST-MODIFIED:20260319T140953Z
UID:10032404-1775642400-1775651400@usm.maine.edu
SUMMARY:Cabaret
DESCRIPTION:Cabaret \nPresented in collaboration with the Osher School of Music\nBased on the play by John Van Druten and Stories by Christopher Isherwood\nBook by Joe Masteroff\, Music by John Kander\, Lyrics by Fred Ebb\nDirected by Danny Hutchins\nMusical Direction by Edward Reichert\nChoreography by Vanessa Beyland \nApril 2-12\, 2026 \nIn a Berlin nightclub\, as the 1920s draw to a close\, a garish Master of Ceremonies welcomes the audience and assures them they will forget all their troubles at the Cabaret. With the Emcee’s bawdy songs as wry commentary\, Cabaret explores the dark\, heady and tumultuous life of Berlin’s natives and expatriates.  Daring\, provocative\, and exuberantly entertaining\, Cabaret explores essential and timely themes as the audience watches the joyful and beautiful world of Bohemian Berlin slowly yield to the emerging Third Reich. \nShow length: 2 hours\, 45 minutes \nBest for grades 6 and up. \nContent Advisory: Cabaret explores sensitive themes\, including anti-Semitism\, Nazi-ism\, racism\, homophobia\, transphobia\, sexism\, abortion\, and sexual content. This production includes depictions of domestic violence\, physical violence\, and Nazi and Holocaust imagery. 
URL:https://usm.maine.edu/calendar-of-events/event/cabaret/2026-04-08/
LOCATION:Russell Hall\, 24 University Way\, Gorham\, ME\, 04038\, United States
CATEGORIES:Visual and performing arts
ATTACH;FMTTYPE=image/jpeg:https://usm.maine.edu/calendar-of-events/wp-content/uploads/sites/34/2025/09/Cabaret1080x1080_PorTix25.jpg
ORGANIZER;CN="Janice Gardner":MAILTO:janice.gardner@maine.edu
GEO:43.681409441295;-70.447751990165
X-APPLE-STRUCTURED-LOCATION;VALUE=URI;X-ADDRESS=Russell Hall 24 University Way Gorham ME 04038 United States;X-APPLE-RADIUS=500;X-TITLE=24 University Way:geo:-70.447751990165,43.681409441295
END:VEVENT
BEGIN:VEVENT
DTSTART;TZID=America/New_York:20260408T161500
DTEND;TZID=America/New_York:20260408T180000
DTSTAMP:20260422T132754
CREATED:20260217T184356Z
LAST-MODIFIED:20260327T140030Z
UID:10034047-1775664900-1775671200@usm.maine.edu
SUMMARY:Office Hours w/ Artist-in-Residence Peter Bruun
DESCRIPTION:Peter Bruun\, Together (detail\, one of 27 panels)\, 2022-2023. Oil on gessoed panel\, 12 x 18 in.\nThe University of Southern Maine Art Department is excited to welcome Spring 2026 Artist-in-Residence Peter Bruun. \nWorking under the aegis of Bruun Studios\, Peter Bruun is an artist\, writer\, curator\, and cultural organizer whose work spans painting\, drawing\, publishing\, and community-based art. For more than 30 years\, his studio practice has fueled projects that bring art into conversation with social justice\, collaboration\, and collective care—ranging from exhibitions and public programs to experimental publications and artist-led organizations. \nAs part of his residency\, Peter will host open Office Hours in his Academy Building studio throughout the spring semester. Students are encouraged to stop by to talk about artwork\, creative process\, career paths\, organizing\, or anything else on your mind. Whether you’re looking for feedback\, conversation\, or just curious to see how an artist works\, walk-ins are welcome. \nOffice Hours \n\nWednesdays\, February 18 –  April 30\, 4:15 – 6 pm\nFridays\, February 13 – May 1st\, 9 am – noon\nNo hours during Spring Break (March 18 & 20)\nOpen to all students\nAcademy Building\, 1st Floor (100 College Ave. Gorham campus)\n\nCome by\, ask questions\, and take advantage of this opportunity to connect with a visiting artist working at the intersection of art\, ideas\, and community.
URL:https://usm.maine.edu/calendar-of-events/event/office-hours-w-artist-in-residence-peter-bruun-2/2026-04-08/
LOCATION:Academy Building\, 100 School St\, Gorham\, ME\, 04038\, United States
CATEGORIES:Exhibit,Professional development,Student activities,Visual and performing arts
ATTACH;FMTTYPE=image/jpeg:https://usm.maine.edu/calendar-of-events/wp-content/uploads/sites/34/2026/03/EventFeaturedBruunTogether.jpg
ORGANIZER;CN="Kat Zagaria Buckley":MAILTO:kat.z.buckley@maine.edu
GEO:43.682358433577;-70.44528291715
X-APPLE-STRUCTURED-LOCATION;VALUE=URI;X-ADDRESS=Academy Building 100 School St Gorham ME 04038 United States;X-APPLE-RADIUS=500;X-TITLE=100 School St:geo:-70.44528291715,43.682358433577
END:VEVENT
BEGIN:VEVENT
DTSTART;TZID=America/New_York:20260409T173000
DTEND;TZID=America/New_York:20260409T193000
DTSTAMP:20260422T132754
CREATED:20260316T175525Z
LAST-MODIFIED:20260318T152117Z
UID:10034598-1775755800-1775763000@usm.maine.edu
SUMMARY:2026 BFA/BA Exhibition Opening
DESCRIPTION:Join us for the opening of the 2026 Bachelor of Fine Arts/Bachelor of Arts exhibition. \nFeaturing work by: \n\nAdalei Brooks | BA in Art & Entrepreneurial Studies with a Concentration in Photography and Digtal Art & Design\nAbby Lemieux | BFA in Studio Art with a Concentration in Photography and Digital Art & Design\nCrystal Reynolds | BFA in Studio Art with a Concentration in Ceramics\nJacob Singelais | BFA in Studio Art with a Concentration in Photography and Digital Art & Design\nCyrus Smith | BFA in Studio Art with a  Double Concentration in Painting and Drawing and Photography and Digital Art & Design\nOscar Stephan | BA in Studio Art with a Concentration in Painting and Drawing\nHailey Stover | BFA in Studio Art with a Concentration in Painting and Drawing\nTrevor Taylor | BFA in Studio Art with a Concentration in Photography and Digital Art & Design\nKate Upham | BFA in Studio Art with a Concentration in Painting  and Drawing
URL:https://usm.maine.edu/calendar-of-events/event/2026-bfa-ba-exhibition-opening/
LOCATION:Art Gallery\, 5 University Way\, Gorham\, ME\, 04038\, United States
CATEGORIES:Exhibit,Visual and performing arts
ATTACH;FMTTYPE=image/jpeg:https://usm.maine.edu/calendar-of-events/wp-content/uploads/sites/34/2026/03/BFAFeaturedImage-scaled.jpg
ORGANIZER;CN="Art Gallery":MAILTO:usmartgalleries@maine.edu
GEO:43.679820522387;-70.447368664418
X-APPLE-STRUCTURED-LOCATION;VALUE=URI;X-ADDRESS=Art Gallery 5 University Way Gorham ME 04038 United States;X-APPLE-RADIUS=500;X-TITLE=5 University Way:geo:-70.447368664418,43.679820522387
END:VEVENT
BEGIN:VEVENT
DTSTART;TZID=America/New_York:20260409T190000
DTEND;TZID=America/New_York:20260409T213000
DTSTAMP:20260422T132754
CREATED:20250917T161343Z
LAST-MODIFIED:20260319T140953Z
UID:10032407-1775761200-1775770200@usm.maine.edu
SUMMARY:Cabaret
DESCRIPTION:Cabaret \nPresented in collaboration with the Osher School of Music\nBased on the play by John Van Druten and Stories by Christopher Isherwood\nBook by Joe Masteroff\, Music by John Kander\, Lyrics by Fred Ebb\nDirected by Danny Hutchins\nMusical Direction by Edward Reichert\nChoreography by Vanessa Beyland \nApril 2-12\, 2026 \nIn a Berlin nightclub\, as the 1920s draw to a close\, a garish Master of Ceremonies welcomes the audience and assures them they will forget all their troubles at the Cabaret. With the Emcee’s bawdy songs as wry commentary\, Cabaret explores the dark\, heady and tumultuous life of Berlin’s natives and expatriates.  Daring\, provocative\, and exuberantly entertaining\, Cabaret explores essential and timely themes as the audience watches the joyful and beautiful world of Bohemian Berlin slowly yield to the emerging Third Reich. \nShow length: 2 hours\, 45 minutes \nBest for grades 6 and up. \nContent Advisory: Cabaret explores sensitive themes\, including anti-Semitism\, Nazi-ism\, racism\, homophobia\, transphobia\, sexism\, abortion\, and sexual content. This production includes depictions of domestic violence\, physical violence\, and Nazi and Holocaust imagery. 
URL:https://usm.maine.edu/calendar-of-events/event/cabaret/2026-04-09/
LOCATION:Russell Hall\, 24 University Way\, Gorham\, ME\, 04038\, United States
CATEGORIES:Visual and performing arts
ATTACH;FMTTYPE=image/jpeg:https://usm.maine.edu/calendar-of-events/wp-content/uploads/sites/34/2025/09/Cabaret1080x1080_PorTix25.jpg
ORGANIZER;CN="Janice Gardner":MAILTO:janice.gardner@maine.edu
GEO:43.681409441295;-70.447751990165
X-APPLE-STRUCTURED-LOCATION;VALUE=URI;X-ADDRESS=Russell Hall 24 University Way Gorham ME 04038 United States;X-APPLE-RADIUS=500;X-TITLE=24 University Way:geo:-70.447751990165,43.681409441295
END:VEVENT
BEGIN:VEVENT
DTSTART;TZID=America/New_York:20260410T090000
DTEND;TZID=America/New_York:20260410T120000
DTSTAMP:20260422T132754
CREATED:20260217T184356Z
LAST-MODIFIED:20260327T140030Z
UID:10033568-1775811600-1775822400@usm.maine.edu
SUMMARY:Office Hours w/ Artist-in-Residence Peter Bruun
DESCRIPTION:Peter Bruun\, Together (detail\, one of 27 panels)\, 2022-2023. Oil on gessoed panel\, 12 x 18 in.\nThe University of Southern Maine Art Department is excited to welcome Spring 2026 Artist-in-Residence Peter Bruun. \nWorking under the aegis of Bruun Studios\, Peter Bruun is an artist\, writer\, curator\, and cultural organizer whose work spans painting\, drawing\, publishing\, and community-based art. For more than 30 years\, his studio practice has fueled projects that bring art into conversation with social justice\, collaboration\, and collective care—ranging from exhibitions and public programs to experimental publications and artist-led organizations. \nAs part of his residency\, Peter will host open Office Hours in his Academy Building studio throughout the spring semester. Students are encouraged to stop by to talk about artwork\, creative process\, career paths\, organizing\, or anything else on your mind. Whether you’re looking for feedback\, conversation\, or just curious to see how an artist works\, walk-ins are welcome. \nOffice Hours \n\nWednesdays\, February 18 –  April 30\, 4:15 – 6 pm\nFridays\, February 13 – May 1st\, 9 am – noon\nNo hours during Spring Break (March 18 & 20)\nOpen to all students\nAcademy Building\, 1st Floor (100 College Ave. Gorham campus)\n\nCome by\, ask questions\, and take advantage of this opportunity to connect with a visiting artist working at the intersection of art\, ideas\, and community.
URL:https://usm.maine.edu/calendar-of-events/event/office-hours-w-artist-in-residence-peter-bruun-2/2026-04-10/
LOCATION:Academy Building\, 100 School St\, Gorham\, ME\, 04038\, United States
CATEGORIES:Exhibit,Professional development,Student activities,Visual and performing arts
ATTACH;FMTTYPE=image/jpeg:https://usm.maine.edu/calendar-of-events/wp-content/uploads/sites/34/2026/03/EventFeaturedBruunTogether.jpg
ORGANIZER;CN="Kat Zagaria Buckley":MAILTO:kat.z.buckley@maine.edu
GEO:43.682358433577;-70.44528291715
X-APPLE-STRUCTURED-LOCATION;VALUE=URI;X-ADDRESS=Academy Building 100 School St Gorham ME 04038 United States;X-APPLE-RADIUS=500;X-TITLE=100 School St:geo:-70.44528291715,43.682358433577
END:VEVENT
BEGIN:VEVENT
DTSTART;TZID=America/New_York:20260410T190000
DTEND;TZID=America/New_York:20260410T213000
DTSTAMP:20260422T132754
CREATED:20250917T161343Z
LAST-MODIFIED:20260319T140953Z
UID:10032410-1775847600-1775856600@usm.maine.edu
SUMMARY:Cabaret
DESCRIPTION:Cabaret \nPresented in collaboration with the Osher School of Music\nBased on the play by John Van Druten and Stories by Christopher Isherwood\nBook by Joe Masteroff\, Music by John Kander\, Lyrics by Fred Ebb\nDirected by Danny Hutchins\nMusical Direction by Edward Reichert\nChoreography by Vanessa Beyland \nApril 2-12\, 2026 \nIn a Berlin nightclub\, as the 1920s draw to a close\, a garish Master of Ceremonies welcomes the audience and assures them they will forget all their troubles at the Cabaret. With the Emcee’s bawdy songs as wry commentary\, Cabaret explores the dark\, heady and tumultuous life of Berlin’s natives and expatriates.  Daring\, provocative\, and exuberantly entertaining\, Cabaret explores essential and timely themes as the audience watches the joyful and beautiful world of Bohemian Berlin slowly yield to the emerging Third Reich. \nShow length: 2 hours\, 45 minutes \nBest for grades 6 and up. \nContent Advisory: Cabaret explores sensitive themes\, including anti-Semitism\, Nazi-ism\, racism\, homophobia\, transphobia\, sexism\, abortion\, and sexual content. This production includes depictions of domestic violence\, physical violence\, and Nazi and Holocaust imagery. 
URL:https://usm.maine.edu/calendar-of-events/event/cabaret/2026-04-10/
LOCATION:Russell Hall\, 24 University Way\, Gorham\, ME\, 04038\, United States
CATEGORIES:Visual and performing arts
ATTACH;FMTTYPE=image/jpeg:https://usm.maine.edu/calendar-of-events/wp-content/uploads/sites/34/2025/09/Cabaret1080x1080_PorTix25.jpg
ORGANIZER;CN="Janice Gardner":MAILTO:janice.gardner@maine.edu
GEO:43.681409441295;-70.447751990165
X-APPLE-STRUCTURED-LOCATION;VALUE=URI;X-ADDRESS=Russell Hall 24 University Way Gorham ME 04038 United States;X-APPLE-RADIUS=500;X-TITLE=24 University Way:geo:-70.447751990165,43.681409441295
END:VEVENT
BEGIN:VEVENT
DTSTART;TZID=America/New_York:20260411T173000
DTEND;TZID=America/New_York:20260411T220000
DTSTAMP:20260422T132754
CREATED:20260319T141517Z
LAST-MODIFIED:20260408T194851Z
UID:10034601-1775928600-1775944800@usm.maine.edu
SUMMARY:USM Theatre Gala: Willkommen to the Cabaret!
DESCRIPTION:Saturday\, April 11th\, 5:30pm \nRussell Hall\, USM Gorham Campus \nJoin us for a special event and performance of the musical Cabaret to celebrate the USM Department of Theatre! The USM Theatre Gala: Willkommen to the Cabaret features pre-show appetizers\, cash bar\, an intermission dessert bar\, a silent auction with fun items from local businesses\, special student performances\, and more! And\, of course\, you get a ticket to Cabaret presented by the USM Department of Theatre in collaboration with the Osher School of Music. \nSemi-formal dress is encouraged! \nGeneral seating: $50 \nImmersive seating: $75 \nAll proceeds support the USM Department of Theatre for student scholarships\, student professional development stipends\, theatre production needs and performance accessibility upgrades. \nTickets: https://www.givecampus.com/schools/UniversityofSouthernMaineFoundation/events/usm-theatre-gala-willkommen-to-cabaret
URL:https://usm.maine.edu/calendar-of-events/event/usm-theatre-gala-willkommen-to-the-cabaret/
LOCATION:Russell Hall\, 24 University Way\, Gorham\, ME\, 04038\, United States
CATEGORIES:Visual and performing arts
ATTACH;FMTTYPE=image/jpeg:https://usm.maine.edu/calendar-of-events/wp-content/uploads/sites/34/2026/03/Willkommen-to-the-Cabaret.jpg
ORGANIZER;CN="Janice Gardner":MAILTO:janice.gardner@maine.edu
GEO:43.681409441295;-70.447751990165
X-APPLE-STRUCTURED-LOCATION;VALUE=URI;X-ADDRESS=Russell Hall 24 University Way Gorham ME 04038 United States;X-APPLE-RADIUS=500;X-TITLE=24 University Way:geo:-70.447751990165,43.681409441295
END:VEVENT
END:VCALENDAR