BEGIN:VCALENDAR
VERSION:2.0
PRODID:-//Calendar of Events - ECPv6.15.17.1//NONSGML v1.0//EN
CALSCALE:GREGORIAN
METHOD:PUBLISH
X-WR-CALNAME:Calendar of Events
X-ORIGINAL-URL:https://usm.maine.edu/calendar-of-events
X-WR-CALDESC:Events for Calendar of Events
REFRESH-INTERVAL;VALUE=DURATION:PT1H
X-Robots-Tag:noindex
X-PUBLISHED-TTL:PT1H
BEGIN:VTIMEZONE
TZID:America/New_York
BEGIN:DAYLIGHT
TZOFFSETFROM:-0500
TZOFFSETTO:-0400
TZNAME:EDT
DTSTART:20250309T070000
END:DAYLIGHT
BEGIN:STANDARD
TZOFFSETFROM:-0400
TZOFFSETTO:-0500
TZNAME:EST
DTSTART:20251102T060000
END:STANDARD
BEGIN:DAYLIGHT
TZOFFSETFROM:-0500
TZOFFSETTO:-0400
TZNAME:EDT
DTSTART:20260308T070000
END:DAYLIGHT
BEGIN:STANDARD
TZOFFSETFROM:-0400
TZOFFSETTO:-0500
TZNAME:EST
DTSTART:20261101T060000
END:STANDARD
BEGIN:DAYLIGHT
TZOFFSETFROM:-0500
TZOFFSETTO:-0400
TZNAME:EDT
DTSTART:20270314T070000
END:DAYLIGHT
BEGIN:STANDARD
TZOFFSETFROM:-0400
TZOFFSETTO:-0500
TZNAME:EST
DTSTART:20271107T060000
END:STANDARD
END:VTIMEZONE
BEGIN:VEVENT
DTSTART;TZID=America/New_York:20260312T173000
DTEND;TZID=America/New_York:20260312T190000
DTSTAMP:20260421T205102
CREATED:20260213T192525Z
LAST-MODIFIED:20260309T194716Z
UID:10034071-1773336600-1773342000@usm.maine.edu
SUMMARY:From D.C. to Downeast: Avoiding a Debt Crisis
DESCRIPTION:The national debt is reaching historic levels and is growing at an unsustainable rate. What does that mean for us here in Maine? \nFrom the stability of Social Security and Medicare to the effect on interest rates\, student loans\, and housing\, the consequences of our debt trajectory affect us all. Join us for an engaging educational forum featuring a panel of federal and state experts for a non-partisan deep dive into our fiscal trajectory and the path toward sustainability\, in-person or on zoom. \nThe Muskie School of Public Service invites you to a panel discussion to explore: \nThe Drivers: What factors are pushing the national debt to new heights? \nThe Maine Connection: How do federal budgetary policy and fiscal uncertainty impact our state economy? \nA Path Forward: Policy ideas for building a sustainable fiscal future. \nThe panel discussion will be followed by a Q&A session\, providing an opportunity to ask the experts questions and join in on the conversation.
URL:https://usm.maine.edu/calendar-of-events/event/from-d-c-to-downeast-avoiding-a-debt-crisis/
LOCATION:McGoldrick Center for Career & Student Success\, 35 Bedford Street\, Portland\, ME\, 04101
CATEGORIES:Lecture or panel discussion
ATTACH;FMTTYPE=image/png:https://usm.maine.edu/calendar-of-events/wp-content/uploads/sites/34/2022/07/eventFallback.png
GEO:43.662794152949;-70.27502725047
X-APPLE-STRUCTURED-LOCATION;VALUE=URI;X-ADDRESS=McGoldrick Center for Career & Student Success 35 Bedford Street Portland ME 04101;X-APPLE-RADIUS=500;X-TITLE=35 Bedford Street:geo:-70.27502725047,43.662794152949
END:VEVENT
END:VCALENDAR